BEGIN:VCALENDAR
VERSION:2.0
PRODID:-//Contratero//ES
CALSCALE:GREGORIAN
METHOD:PUBLISH
BEGIN:VEVENT
UID:MANTENIMIENTO PLATAFORMA VENTA LOCALIDADES@contratero.es
DTSTAMP:20260423T180816Z
DTSTART:20220920T235959
DTEND:20220921T005959
SUMMARY:Cierre: Servicio de asistencia y mantenimiento de la plata
DESCRIPTION:Servicio de asistencia y mantenimiento de la plataforma web para la venta de localidades de los eventos de la Fundación Municipal de Cultura (FMC).\\n\\nOrganismo: Presidencia de la Fundación Municipal de Cultura del Ayuntamiento de Moguer\\n\\nVer en Contratero: https://contratero.es/contracts/MANTENIMIENTO PLATAFORMA VENTA LOCALIDADES
URL:https://contratero.es/contracts/MANTENIMIENTO PLATAFORMA VENTA LOCALIDADES
STATUS:CONFIRMED
BEGIN:VALARM
TRIGGER:-P1D
ACTION:DISPLAY
DESCRIPTION:Recordatorio: Servicio de asistencia y mante
END:VALARM
END:VEVENT
END:VCALENDAR